BEGIN:VCALENDAR
PRODID:-//Pixl8//Eventfolio//EN
VERSION:2.0
X-WR-TIMEZONE:Europe/London
CALSCALE:GREGORIAN
METHOD:PUBLISH
CLASS:PUBLIC
BEGIN:VTIMEZONE
TZID:Europe/London
LAST-MODIFIED:20260306T231828Z
TZURL:https://www.tzurl.org/zoneinfo-outlook/Europe/London
X-LIC-LOCATION:Europe/London
BEGIN:DAYLIGHT
TZNAME:BST
TZOFFSETFROM:+0000
TZOFFSETTO:+0100
DTSTART:19700329T010000
RRULE:FREQ=YEARLY;BYMONTH=3;BYDAY=-1SU
END:DAYLIGHT
BEGIN:STANDARD
TZNAME:GMT
TZOFFSETFROM:+0100
TZOFFSETTO:+0000
DTSTART:19701025T020000
RRULE:FREQ=YEARLY;BYMONTH=10;BYDAY=-1SU
END:STANDARD
END:VTIMEZONE
BEGIN:VEVENT
DTSTART;TZID=Europe/London:20260527T110000
DTEND;TZID=Europe/London:20260527T120000
DTSTAMP:20260423T121324Z
UID:{8784A90D-4A3B-4F03-9B0A99D28AE6D398}
LOCATION:Online
SUMMARY:Creating Accessible Events (vision awareness)
DESCRIPTION:Broaden the accessibility and appeal of your event with top tips from the VocalEyes team.\n
 \n
 Event details: https://www.heritageopendays.org.uk/get-involved/support-and-opportunities/event-calendar/creating-accessible-events-vision-awareness-2026.html
PRIORITY:1
END:VEVENT
END:VCALENDAR