BEGIN:VCALENDAR
PRODID:-//Pixl8//Eventfolio//EN
VERSION:2.0
X-WR-TIMEZONE:Europe/London
CALSCALE:GREGORIAN
METHOD:PUBLISH
CLASS:PUBLIC
BEGIN:VTIMEZONE
TZID:Europe/London
LAST-MODIFIED:20260306T231828Z
TZURL:https://www.tzurl.org/zoneinfo-outlook/Europe/London
X-LIC-LOCATION:Europe/London
BEGIN:DAYLIGHT
TZNAME:BST
TZOFFSETFROM:+0000
TZOFFSETTO:+0100
DTSTART:19700329T010000
RRULE:FREQ=YEARLY;BYMONTH=3;BYDAY=-1SU
END:DAYLIGHT
BEGIN:STANDARD
TZNAME:GMT
TZOFFSETFROM:+0100
TZOFFSETTO:+0000
DTSTART:19701025T020000
RRULE:FREQ=YEARLY;BYMONTH=10;BYDAY=-1SU
END:STANDARD
END:VTIMEZONE
BEGIN:VEVENT
DTSTART;TZID=Europe/London:20260520T110000
DTEND;TZID=Europe/London:20260520T120000
DTSTAMP:20260423T104859Z
UID:{4ADBDDC4-F9E9-4D1D-874687EDD6B3E5C5}
LOCATION:Online
SUMMARY:Fundraising Tips
DESCRIPTION:Get some some top tips on fundraising from experienced consultants at Philanthropy Company.\n
 \n
 Event details: https://www.heritageopendays.org.uk/get-involved/support-and-opportunities/event-calendar/fundraising-tips.html
PRIORITY:1
END:VEVENT
END:VCALENDAR